BEGIN:VCALENDAR
VERSION:2.0
PRODID:-//CERN//INDICO//EN
BEGIN:VEVENT
SUMMARY:Rejillas de Difración para Contraste de Fase por Iluminación de 
 Borde
DTSTART;VALUE=DATE-TIME:20260612T163000Z
DTEND;VALUE=DATE-TIME:20260612T170000Z
DTSTAMP;VALUE=DATE-TIME:20260425T141413Z
UID:indico-contribution-364@fisindico.uniandes.edu.co
DESCRIPTION:Speakers: David Jurado Romero (Universidad de los andes)\nhttp
 s://fisindico.uniandes.edu.co/event/24/contributions/364/
LOCATION:Universidad de los Andes
URL:https://fisindico.uniandes.edu.co/event/24/contributions/364/
END:VEVENT
END:VCALENDAR
